BEGIN:VCALENDAR
VERSION:2.0
PRODID:-//Billington&#039;s of Lenzie - ECPv6.15.20//NONSGML v1.0//EN
CALSCALE:GREGORIAN
METHOD:PUBLISH
X-ORIGINAL-URL:https://www.billingtonsoflenzie.co.uk
X-WR-CALDESC:Events for Billington&#039;s of Lenzie
REFRESH-INTERVAL;VALUE=DURATION:PT1H
X-Robots-Tag:noindex
X-PUBLISHED-TTL:PT1H
BEGIN:VTIMEZONE
TZID:Europe/London
BEGIN:DAYLIGHT
TZOFFSETFROM:+0000
TZOFFSETTO:+0100
TZNAME:BST
DTSTART:20250330T010000
END:DAYLIGHT
BEGIN:STANDARD
TZOFFSETFROM:+0100
TZOFFSETTO:+0000
TZNAME:GMT
DTSTART:20251026T010000
END:STANDARD
BEGIN:DAYLIGHT
TZOFFSETFROM:+0000
TZOFFSETTO:+0100
TZNAME:BST
DTSTART:20260329T010000
END:DAYLIGHT
BEGIN:STANDARD
TZOFFSETFROM:+0100
TZOFFSETTO:+0000
TZNAME:GMT
DTSTART:20261025T010000
END:STANDARD
BEGIN:DAYLIGHT
TZOFFSETFROM:+0000
TZOFFSETTO:+0100
TZNAME:BST
DTSTART:20270328T010000
END:DAYLIGHT
BEGIN:STANDARD
TZOFFSETFROM:+0100
TZOFFSETTO:+0000
TZNAME:GMT
DTSTART:20271031T010000
END:STANDARD
END:VTIMEZONE
BEGIN:VEVENT
DTSTART;TZID=Europe/London:20260425T180000
DTEND;TZID=Europe/London:20260425T210000
DTSTAMP:20260422T104827
CREATED:20260328T173010Z
LAST-MODIFIED:20260328T173307Z
UID:27631-1777140000-1777150800@www.billingtonsoflenzie.co.uk
SUMMARY:Step by Step Acrylic Paint & Sip Workshop w/ The Mindful Brush - Tuscan Vineyard
DESCRIPTION:Get Your Tickets Here! \n  \nJoin us on Saturday\, April 25th\, for an evening (6 – 9 pm) of creativity and fun at the lovely Deli Billington’s of Lenzie\, where we’ll be painting the inspiring Tuscan Vineyard shown in this poster in good company! \n  \nWhether you’re a total beginner or just in it for the vibes\, this Paint & Sip session is all about relaxing\, getting playful with paint\, and leaving with something you’re proud of. \n  \nWe’ll provide everything you need\, including a welcome glass of wine. So\, book your ticket and get ready for a colourful\, light-hearted evening in a fab setting. \n  \nThe spaces in this venue are Limited (12)\, so ensure to reserve yours soon! Bring a friend or meet new people!
URL:https://www.billingtonsoflenzie.co.uk/event/step-by-step-acrylic-paint-sip-workshop-w-the-mindful-brush-vineyard/
LOCATION:Billington’s of Lenzie\, 114 Kirkintilloch Road\, Glasgow\, G66 4LQ\, United Kingdom
CATEGORIES:Paint & Sip
ATTACH;FMTTYPE=image/png:https://www.billingtonsoflenzie.co.uk/wp-content/uploads/2026/03/Sip-Paint-2-Billingtons-2-1.png
ORGANIZER;CN="Billington's":MAILTO:info@billingtonsoflenzie.co.uk
END:VEVENT
BEGIN:VEVENT
DTSTART;TZID=Europe/London:20260502T110000
DTEND;TZID=Europe/London:20260502T160000
DTSTAMP:20260422T104827
CREATED:20260408T144238Z
LAST-MODIFIED:20260408T144238Z
UID:27675-1777719600-1777737600@www.billingtonsoflenzie.co.uk
SUMMARY:North Point Distillery Barrel Top Tasting
DESCRIPTION:
URL:https://www.billingtonsoflenzie.co.uk/event/north-point-distillery-barrel-top-tasting/
LOCATION:Billington’s of Lenzie\, 114 Kirkintilloch Road\, Glasgow\, G66 4LQ\, United Kingdom
CATEGORIES:Barrel Top Tasting
ATTACH;FMTTYPE=image/png:https://www.billingtonsoflenzie.co.uk/wp-content/uploads/2026/04/north-point-distillery-2.png
ORGANIZER;CN="Billington's":MAILTO:info@billingtonsoflenzie.co.uk
END:VEVENT
BEGIN:VEVENT
DTSTART;TZID=Europe/London:20260507T190000
DTEND;TZID=Europe/London:20260507T210000
DTSTAMP:20260422T104827
CREATED:20260412T111803Z
LAST-MODIFIED:20260412T111926Z
UID:27682-1778180400-1778187600@www.billingtonsoflenzie.co.uk
SUMMARY:Craft & Sip w/ crafted.glasgow - Eco Resin Trinket Dish
DESCRIPTION:Craft & Sip Evening w crafted.glasgow \nLearn how to create your own eco resin trinket dish! \n£36pp \nIncludes all materials and a complementary glass of wine on arrival \nTickets available by messaging @crafted.glasgow on Instagram! Link below. \nhttps://www.instagram.com/crafted.glasgow
URL:https://www.billingtonsoflenzie.co.uk/event/27682/
LOCATION:Billington’s of Lenzie\, 114 Kirkintilloch Road\, Glasgow\, G66 4LQ\, United Kingdom
CATEGORIES:Paint & Sip
ATTACH;FMTTYPE=image/jpeg:https://www.billingtonsoflenzie.co.uk/wp-content/uploads/2026/04/Excited-to-announce-that-were-partnering-with-@billingtons_of_lenzie-to-bring-you-a-craft-sip.jpg
ORGANIZER;CN="Billington's":MAILTO:info@billingtonsoflenzie.co.uk
END:VEVENT
BEGIN:VEVENT
DTSTART;TZID=Europe/London:20260511T190000
DTEND;TZID=Europe/London:20260511T210000
DTSTAMP:20260422T104827
CREATED:20260420T152351Z
LAST-MODIFIED:20260420T152351Z
UID:27700-1778526000-1778533200@www.billingtonsoflenzie.co.uk
SUMMARY:Wine Club - Summer Sips
DESCRIPTION:Join us for Summer Sips\, an exclusive wine club event hosted by Stewart of Alexander Wines on Monday 11th May\, 7–9pm. This special evening will spotlight an exciting new Argentine producer\, Bodegas Bianchi\, featuring a curated selection of vibrant\, seasonal wines—from crisp whites to refreshing rosés and elegant reds. \nPerfect for wine lovers of all levels\, enjoy expert insights\, relaxed conversation\, and standout summer flavours. Spaces are limited—reserve your place and sip into summer in style.
URL:https://www.billingtonsoflenzie.co.uk/event/wine-club-summer-sips/
LOCATION:Billington’s of Lenzie\, 114 Kirkintilloch Road\, Glasgow\, G66 4LQ\, United Kingdom
CATEGORIES:Wine Club
ATTACH;FMTTYPE=image/png:https://www.billingtonsoflenzie.co.uk/wp-content/uploads/2026/04/wine-club-11-may-26.png
ORGANIZER;CN="Billington's":MAILTO:info@billingtonsoflenzie.co.uk
END:VEVENT
BEGIN:VEVENT
DTSTART;TZID=Europe/London:20260523T130000
DTEND;TZID=Europe/London:20260523T170000
DTSTAMP:20260422T104827
CREATED:20260225T122417Z
LAST-MODIFIED:20260408T144009Z
UID:27520-1779541200-1779555600@www.billingtonsoflenzie.co.uk
SUMMARY:Lindores Abbey Distillery Barrel Top Tasting
DESCRIPTION:
URL:https://www.billingtonsoflenzie.co.uk/event/lindores-abbey-distillery-barrel-top-tasting/
LOCATION:Billington’s of Lenzie\, 114 Kirkintilloch Road\, Glasgow\, G66 4LQ\, United Kingdom
CATEGORIES:Barrel Top Tasting
ATTACH;FMTTYPE=image/jpeg:https://www.billingtonsoflenzie.co.uk/wp-content/uploads/2026/02/img_8612-1-1.jpg
ORGANIZER;CN="Billington's":MAILTO:info@billingtonsoflenzie.co.uk
END:VEVENT
END:VCALENDAR